BEGIN:VCALENDAR
VERSION:2.0
PRODID:-//SEES - ECPv6.15.16//NONSGML v1.0//EN
CALSCALE:GREGORIAN
METHOD:PUBLISH
X-WR-CALNAME:SEES
X-ORIGINAL-URL:https://test.seescience.org
X-WR-CALDESC:Events for SEES
REFRESH-INTERVAL;VALUE=DURATION:PT1H
X-Robots-Tag:noindex
X-PUBLISHED-TTL:PT1H
BEGIN:VTIMEZONE
TZID:America/Chicago
BEGIN:DAYLIGHT
TZOFFSETFROM:-0600
TZOFFSETTO:-0500
TZNAME:CDT
DTSTART:20230312T080000
END:DAYLIGHT
BEGIN:STANDARD
TZOFFSETFROM:-0500
TZOFFSETTO:-0600
TZNAME:CST
DTSTART:20231105T070000
END:STANDARD
BEGIN:DAYLIGHT
TZOFFSETFROM:-0600
TZOFFSETTO:-0500
TZNAME:CDT
DTSTART:20240310T080000
END:DAYLIGHT
BEGIN:STANDARD
TZOFFSETFROM:-0500
TZOFFSETTO:-0600
TZNAME:CST
DTSTART:20241103T070000
END:STANDARD
BEGIN:DAYLIGHT
TZOFFSETFROM:-0600
TZOFFSETTO:-0500
TZNAME:CDT
DTSTART:20250309T080000
END:DAYLIGHT
BEGIN:STANDARD
TZOFFSETFROM:-0500
TZOFFSETTO:-0600
TZNAME:CST
DTSTART:20251102T070000
END:STANDARD
END:VTIMEZONE
BEGIN:VEVENT
DTSTART;VALUE=DATE:20240129
DTEND;VALUE=DATE:20240130
DTSTAMP:20260422T184144
CREATED:20240126T192929Z
LAST-MODIFIED:20240126T193405Z
UID:3527-1706486400-1706572799@test.seescience.org
SUMMARY:APS Call for Beamtime Proposals 2024-3
DESCRIPTION:Call for beamtime proposals opens on January 29\, 2024. \nThe Advanced Photon Source is pleased to announce that it will be opening its first call for user scientific proposals using the new Universal Proposal System (UPS). A call for proposals for cycle 2024-3 for a selection of the APS Feature Beamlines will open on January 29\, 2024.\nThis call is for beam time requests for cycle 2024-3 on these feature beamlines: \n• POLAR: 4-ID Polarization Modulation Spectroscopy\n• XPCS: 8-ID X-ray Photon Correlation Spectroscopy\n• HEXM: 20-ID High-energy X-ray Microscope\n• ISN: 19-ID In-situ Nanoprobe\n• CSSI: 9-ID Coherent Surface Scattering Imaging \nIn order to submit and/or be listed on an APS proposal\, users must:\n1. Have an APS/Argonne badge number (if you do not currently have an APS/Argonne badge number\, please register as a user)\n2. Log into the UPS platform at least once and create a profile\nAuthentication into the UPS is via ORCiD – please do not create a new ORCiD if you have an existing ORCiD. \nUniversal Proposal System Login
URL:https://test.seescience.org/calendar/aps-call-for-beamtime-proposals-2024-3/
LOCATION:APS\, 9700 S. Cass Ave\, Argonne\, IL\, 60439\, United States
END:VEVENT
BEGIN:VEVENT
DTSTART;VALUE=DATE:20240130
DTEND;VALUE=DATE:20240201
DTSTAMP:20260422T184144
CREATED:20240126T194152Z
LAST-MODIFIED:20240126T202309Z
UID:3564-1706655600-1706741999@test.seescience.org
SUMMARY:NSLS II  2024-2 Beamtime Proposals Deadline
DESCRIPTION:Proposal submission deadline for 2024-2 proposal submission\, January 31\, 2024 (11:59 ET)\nRun dates for 2024 – 2\, May – August 2024. \nApply for Beamtime
URL:https://test.seescience.org/calendar/nsls-ii-call-for-beamtime-proposals-2024-2/
LOCATION:IL
END:VEVENT
BEGIN:VEVENT
DTSTART;VALUE=DATE:20240131
DTEND;VALUE=DATE:20240201
DTSTAMP:20260422T184144
CREATED:20240126T201106Z
LAST-MODIFIED:20240126T201106Z
UID:3581-1706659200-1706745599@test.seescience.org
SUMMARY:NSLS II : XAS 2024 Tutorial Application Deadline
DESCRIPTION:Application Deadline : January 31\, 2024\nCourse : March 19-21\, 2024 \nX-ray absorption spectroscopy is a core technique of the DOE synchrotron user facilities and attracts diverse scientific communities. This 3-day course offered by NSLS-II experts will introduce XAS data analysis for new and prospective users and provide an opportunity to perform real experiments at NSLS-II XAS beamlines. The first day will be devoted to fundamentals of XAS analysis\, data reduction and processing\, and basics of XAS experiments and instrumentation.\nCourse Website  \nParticipants will be trained hands-on on XAS data analysis of increasing complexity. Modern XAS methods such as high-resolution spectroscopy will also be introduced. On the third day\, the participants will participate in the experiments at XAS beamlines and analyze the data they collect. \nThis course will be limited to 35 participants. To be eligible to participate\, all applicants must submit their application online by January 31\, 2024. Applicants will receive notification of acceptance by February 1\, 2024.\nRegister 
URL:https://test.seescience.org/calendar/nsls-ii-xas-2024-tutorial-application-deadline/
LOCATION:NSLS II\, Brookhaven National Laboratory\, 743 Brookhaven Avenue\, Upton\, NY\, 11973-5000\, United States
END:VEVENT
END:VCALENDAR