BEGIN:VCALENDAR
VERSION:2.0
PRODID:-//SEES - ECPv6.15.16//NONSGML v1.0//EN
CALSCALE:GREGORIAN
METHOD:PUBLISH
X-ORIGINAL-URL:https://test.seescience.org
X-WR-CALDESC:Events for SEES
REFRESH-INTERVAL;VALUE=DURATION:PT1H
X-Robots-Tag:noindex
X-PUBLISHED-TTL:PT1H
BEGIN:VTIMEZONE
TZID:America/Chicago
BEGIN:DAYLIGHT
TZOFFSETFROM:-0600
TZOFFSETTO:-0500
TZNAME:CDT
DTSTART:20230312T080000
END:DAYLIGHT
BEGIN:STANDARD
TZOFFSETFROM:-0500
TZOFFSETTO:-0600
TZNAME:CST
DTSTART:20231105T070000
END:STANDARD
BEGIN:DAYLIGHT
TZOFFSETFROM:-0600
TZOFFSETTO:-0500
TZNAME:CDT
DTSTART:20240310T080000
END:DAYLIGHT
BEGIN:STANDARD
TZOFFSETFROM:-0500
TZOFFSETTO:-0600
TZNAME:CST
DTSTART:20241103T070000
END:STANDARD
BEGIN:DAYLIGHT
TZOFFSETFROM:-0600
TZOFFSETTO:-0500
TZNAME:CDT
DTSTART:20250309T080000
END:DAYLIGHT
BEGIN:STANDARD
TZOFFSETFROM:-0500
TZOFFSETTO:-0600
TZNAME:CST
DTSTART:20251102T070000
END:STANDARD
END:VTIMEZONE
BEGIN:VEVENT
DTSTART;VALUE=DATE:20240207
DTEND;VALUE=DATE:20240208
DTSTAMP:20260422T172842
CREATED:20240130T192814Z
LAST-MODIFIED:20240130T192814Z
UID:3607-1707264000-1707350399@test.seescience.org
SUMMARY:NSLS II Public Tour
DESCRIPTION:Wednesday\, February 7\, 2024\, 11:00 am — NSLS-ll Experimental Floor \nThe National Synchrotron Light Source II (NSLS-II) at Brookhaven Lab is pleased to offer monthly tours to visitors who are interested in learning about how a synchrotron light source works\, hearing about some of the science done at the facility\, and touring the experimental floor. Registration of each attendee is required because space is limited. The deadline to register is 48 hours prior to the tour start date. There are no costs associated with the tour for all visitors. All visitors must be at least 16 years old. We look forward to seeing you at NSLS-II! \nIf you have questions\, please email (nsls2tours@bnl.gov) or call 631-344-8737. \nTour Registration
URL:https://test.seescience.org/calendar/nsls-ii-public-tour/
LOCATION:NSLS II\, Brookhaven National Laboratory\, 743 Brookhaven Avenue\, Upton\, NY\, 11973-5000\, United States
END:VEVENT
BEGIN:VEVENT
DTSTART;VALUE=DATE:20240215
DTEND;VALUE=DATE:20240216
DTSTAMP:20260422T172842
CREATED:20240126T201754Z
LAST-MODIFIED:20240126T201754Z
UID:3585-1707955200-1708041599@test.seescience.org
SUMMARY:ALS : Nanotomography Workshop Application Deadline
DESCRIPTION:As part of an ongoing effort to introduce synchrotron techniques to the rock deformation community\, ISRD-RCN and Berkeley Lab will hold a hands-on workshop on April 4-5\, 2024 at the Advanced Light Source\, Berkeley\, CA. The workshop will focus on Nanotomography Techniques in rock deformation experiments at synchrotron beamlines. \nTentative Agenda \nApril 4\, 2024: Background\nMorning: Introduction of Nanogeoscience and X-ray Tomography\n1. ALS Tour\n2. Nanogeoscience fundamentals\n3. Intro to practical Nanotomography\nAfternoon: hands-on/demo\n1. Sample mounting demo/practice\n2. Cell assembly preparation\n3. Mechanical stage setup and testing in 11.3.1 \nEvening: Group Dinner \nApril 5\, 2024: Hands-on experiments and data analysis\nMorning: Sample scans\n1. Sample mounting and scanning\n2. Additional scanning and reconstruction\n3. Software troubleshooting\nAfternoon: Data analysis demo\n1. Filtering\n2. Segmentation\n3. Quantification\nAdjourn \nThis workshop is open to all researchers who are interested in conducting in-situ studies of rock deformation\, with priority given to graduate students and early career scientists. If you are interested in participating\, please send your application to Wen-lu Zhu (wzhu@umd.edu). The application should include:\n1) A brief CV\n2) A statement of research interests describing how this workshop could help advance your research \nOnce your application is approved by the steering committee\, ISRD will provide travel support (up to $1200) for your trip to ALS. To provide hands-on experience\, the workshop is limited to 10 participants. The application deadline is February 15\, 2024\, or when all slots are filled\, whichever comes first.
URL:https://test.seescience.org/calendar/als-nanotomography-workshop-application-deadline/
LOCATION:IL
END:VEVENT
BEGIN:VEVENT
DTSTART;TZID=America/Chicago:20240219T130000
DTEND;TZID=America/Chicago:20240219T140000
DTSTAMP:20260422T172842
CREATED:20240205T171733Z
LAST-MODIFIED:20240205T171837Z
UID:3631-1708347600-1708351200@test.seescience.org
SUMMARY:APS : HP Interest Group Mtg - P Dera
DESCRIPTION:APS : High Pressure Interest Group VIRTUAL monthly meeting – 2/19/2024 – 1:00 pm (CST)\nThe next high-pressure interest group meeting will be held 1:00 pm – 2:00 pm (US central time)\, Monday\, February 19\, 2024. In this meeting\, Dr. Przemyslaw Dera\, Hawaii Institute of Geophysics and Planetology\, University of Hawaii at Manoa\, will present “Novel quantum crystallography methods for modeling of pressure-and temperature effects in minerals with cation disorder”. \nJoin ZoomGov Meeting: https://argonne.zoomgov.com/my/hpcat?pwd=bThydTZLaVlyaER1U3JrRXRqM2l6QT09 \nMeeting ID: 161 4046 1760\nPasscode: 1760 \nAbstract: \nConventional crystallographic investigations primarily focus on determining the geometric arrangement of atoms within the crystal lattice. This involves ascertaining unit cell parameters\, space group symmetry\, and the precise positions of atoms within the crystal. It serves as a foundational technique for understanding the three-dimensional arrangement of mineral components\, providing information about bond lengths\, bond angles\, and overall crystal symmetry. This approach is invaluable for identifying the mineral’s crystal system and lattice parameters. Conventional crystallographic technique uses an approximation assuming spherical distribution of electron density around atoms (IAM\, or independent atom model)\, which restricts the resulting information to the spatial arrangement of atoms without delving into the finer details of electron charge distribution. In contrast\, charge density studies using X-ray and neutron diffraction data account for aspherical features of the electron distributions and seek to unravel the fine details of electron charge\, including bonding electrons\, lone electron pairs\, etc. This level of detail is crucial for understanding chemical bonding\, interatomic interactions\, and subtle electronic effects that influence mineral properties. \nTraditionally\, mineralogical charge density investigations have centered exclusively around the analysis of end-member compositions\, wherein minerals are considered to have an ideal crystalline structure with fixed chemical composition\, devoid of cationic disorder. Experimental charge density analysis has also been applied to investigate high pressure phenomena in only a handful of cases.  However\, geological reality often presents us with minerals exhibiting complex solid solution substitutional disorders and nonlinear mixing effects and in geophysical and geodynamic modeling there is a strong need to address these solid solution effects on the electronic and thermodynamic level. \nAdvances in experimental techniques\, computational methodologies\, such as Hirshfeld Atom Refinement (HAR)\, and enhanced access to high-quality diffraction data have created opportunities to explore the intricate world of non-spherical electron density in earth forming minerals not only at ambient\, but also at extreme conditions. This presentation will review the current state of the art in Quantum Crystallography\, present some examples of studies utilizing the HAR approach to minerals with cation disorder and hydrogen atoms at ambient conditions as well as at high pressure and temperature\, and will discuss future outlook and possible applications. \nFor more information about his work\, see: https://www.higp.hawaii.edu/index.php/people/przemyslaw-dera/
URL:https://test.seescience.org/calendar/aps-hp-interest-group-mtg-p-dera/
LOCATION:IL
END:VEVENT
BEGIN:VEVENT
DTSTART;TZID=America/Chicago:20240223T130000
DTEND;TZID=America/Chicago:20240223T140000
DTSTAMP:20260422T172842
CREATED:20240208T165425Z
LAST-MODIFIED:20240208T165425Z
UID:3639-1708693200-1708696800@test.seescience.org
SUMMARY:FORCE Seminar - Marc Hirschmann
DESCRIPTION:FORCE Seminar \nMarc Hirschmann\, N.H. Winchell School of Earth & Environmental Sciences\, University of Minnesota\nFebruary 23\, 2024\n12:00 pm AZ/MST (11 am PT\, 2 pm ET)\nZoom : Launch Meeting – Zoom 
URL:https://test.seescience.org/calendar/force-seminar-marc-hirschmann/
LOCATION:IL
END:VEVENT
BEGIN:VEVENT
DTSTART;TZID=America/Chicago:20240226T130000
DTEND;TZID=America/Chicago:20240226T140000
DTSTAMP:20260422T172842
CREATED:20240226T143623Z
LAST-MODIFIED:20240226T143623Z
UID:3737-1708952400-1708956000@test.seescience.org
SUMMARY:APS HP Interest Gp - P Dera
DESCRIPTION:Speaker: Dr. Przemyslaw Dera\nHawaii Institute of Geophysics and Planetology\, University of Hawaii at Manoa \nTitle: \n“Novel quantum crystallography methods for modeling of pressure-and temperature effects in minerals with cation disorder “ \nDate:\nMonday\, February 26\, 2024 \nTime:\n1:00 pm CST \nJoin ZoomGov Meeting:\nhttps://argonne.zoomgov.com/my/hpcat?pwd=bThydTZLaVlyaER1U3JrRXRqM2l6QT09
URL:https://test.seescience.org/calendar/aps-hp-interest-gp-p-dera/
LOCATION:APS\, 9700 S. Cass Ave\, Argonne\, IL\, 60439\, United States
END:VEVENT
BEGIN:VEVENT
DTSTART;TZID=America/Chicago:20240228T130000
DTEND;TZID=America/Chicago:20240228T140000
DTSTAMP:20260422T172842
CREATED:20240226T143256Z
LAST-MODIFIED:20240226T143256Z
UID:3735-1709125200-1709128800@test.seescience.org
SUMMARY:CDAC Webinar:  Samad Hajinazar
DESCRIPTION:“Learning from Nature: Accelerating Materials Discovery Through Bio-inspired Approaches” \nSamad Hajinazar\, Department of Chemistry\, University at Buffalo \nWed.\, Feb. 28\, 1:00 pm CT\nZoom link: \nhttps://uic.zoom.us/j/99098590328?pwd=Qkxia2ROdXVvSHRNUGdNaHN1Wjlodz09 \n 
URL:https://test.seescience.org/calendar/cdac-webinar-samad-hajinazar/
LOCATION:APS\, 9700 S. Cass Ave\, Argonne\, IL\, 60439\, United States
END:VEVENT
END:VCALENDAR