BEGIN:VCALENDAR
VERSION:2.0
PRODID:-//SEES - ECPv6.15.16//NONSGML v1.0//EN
CALSCALE:GREGORIAN
METHOD:PUBLISH
X-ORIGINAL-URL:https://test.seescience.org
X-WR-CALDESC:Events for SEES
REFRESH-INTERVAL;VALUE=DURATION:PT1H
X-Robots-Tag:noindex
X-PUBLISHED-TTL:PT1H
BEGIN:VTIMEZONE
TZID:America/Chicago
BEGIN:DAYLIGHT
TZOFFSETFROM:-0600
TZOFFSETTO:-0500
TZNAME:CDT
DTSTART:20230312T080000
END:DAYLIGHT
BEGIN:STANDARD
TZOFFSETFROM:-0500
TZOFFSETTO:-0600
TZNAME:CST
DTSTART:20231105T070000
END:STANDARD
BEGIN:DAYLIGHT
TZOFFSETFROM:-0600
TZOFFSETTO:-0500
TZNAME:CDT
DTSTART:20240310T080000
END:DAYLIGHT
BEGIN:STANDARD
TZOFFSETFROM:-0500
TZOFFSETTO:-0600
TZNAME:CST
DTSTART:20241103T070000
END:STANDARD
BEGIN:DAYLIGHT
TZOFFSETFROM:-0600
TZOFFSETTO:-0500
TZNAME:CDT
DTSTART:20250309T080000
END:DAYLIGHT
BEGIN:STANDARD
TZOFFSETFROM:-0500
TZOFFSETTO:-0600
TZNAME:CST
DTSTART:20251102T070000
END:STANDARD
END:VTIMEZONE
BEGIN:VEVENT
DTSTART;TZID=America/Chicago:20241103T080000
DTEND;TZID=America/Chicago:20241108T170000
DTSTAMP:20260422T042842
CREATED:20240621T164352Z
LAST-MODIFIED:20240621T164352Z
UID:4666-1730620800-1731085200@test.seescience.org
SUMMARY:SAS 2024
DESCRIPTION:National Synchrotron Radiation Research Center (NSRRC) and Taiwan Neutron Science Society (TWNSS) will host the XIX edition of the International Small-Angle Scattering Conference (SAS2024). The conference will take place at the Taipei International Convention Center (TICC) in Taipei\, Taiwan\, from November 3 to 8\, 2024. The banquet site would be the Silks Palace within the National Palace Museum site. \nDate: November 3 to 8\, 2024\nVenue: Taipei International Convention Center (TICC) \nConference : https://www.sas2024.tw/site/page.aspx?pid=901&sid=1535&lang=en
URL:https://test.seescience.org/calendar/sas-2024/
LOCATION:IL
END:VEVENT
BEGIN:VEVENT
DTSTART;TZID=America/Chicago:20241106T150000
DTEND;TZID=America/Chicago:20241106T160000
DTSTAMP:20260422T042842
CREATED:20241023T210441Z
LAST-MODIFIED:20241023T210441Z
UID:7545-1730905200-1730908800@test.seescience.org
SUMMARY:SEES Town Hall 2024
DESCRIPTION:
URL:https://seescience.org/sees-town-hall-2024/
LOCATION:IL
END:VEVENT
BEGIN:VEVENT
DTSTART;TZID=America/Chicago:20241106T150000
DTEND;TZID=America/Chicago:20241106T160000
DTSTAMP:20260422T042842
CREATED:20241024T161720Z
LAST-MODIFIED:20241107T153141Z
UID:7547-1730905200-1730908800@test.seescience.org
SUMMARY:SEES Town Hall on FAIR Data Sharing and Facility Upgrades
DESCRIPTION:Please mark your calendars and plan to join us for a SEES town hall on FAIR data sharing policies and updates on APS and ALS upgrades. \nThis event will be a 1-hour Zoom meeting in which SEES staff will present results from a survey conducted by the SEES User Group on FAIR data sharing and seek attendees’ input on the policies that SEES should adopt for sharing beamline data. \nWe will also provide brief status reports on the APS upgrade and what is happening at the SEES beamlines at APS. Finally\, we will also provide the status of the ALS upgrade and SEES beamlines at ALS. \nThis Town Hall will be a 1-hour Zoom meeting with presentations on \n\nAPS Upgrade Status\nALS Upgrade Status\nF.A.I.R. Data Policy and Practices for SEES\n\nBackground material and slides: \n\n\n\nSEES_FAIR_Survey\nNSF_EAR_data-policy-jul2023\nMatt Newville’s FAIR Data Sharing Policies Slides\nJoanne Stubbs’s APS-U Slides\n\n\n\n 
URL:https://test.seescience.org/calendar/sees-town-hall-on-fair-data-sharing-and-facility-upgrades/
LOCATION:IL
END:VEVENT
BEGIN:VEVENT
DTSTART;TZID=America/Chicago:20241120T130000
DTEND;TZID=America/Chicago:20241120T140000
DTSTAMP:20260422T042842
CREATED:20241118T152447Z
LAST-MODIFIED:20241118T152447Z
UID:8729-1732107600-1732111200@test.seescience.org
SUMMARY:CDAC Webinar
DESCRIPTION:Please join us for this CDAC Webinar:\n\n\n“Extremes of the Periodic Table Under Extreme Conditions” \nThomas Albrecht-Schoenzart\nDepartment of Chemistry\nColorado School of Mines \nWed.\, Nov. 20\, 1:00 pm CT\n\n\nZoom link:\nhttps://uic.zoom.us/j/99098590328?pwd=Qkxia2ROdXVvSHRNUGdNaHN1Wjlodz09 \n\n\n\n\n\n\n\nBackground: \nhttps://chemistry.mines.edu/project/albrecht-thomas/ \nhttps://www.osti.gov/biblio/2320247 \nhttps://pubs.acs.org/doi/abs/10.1021/jacs.4c00803 \nhttps://www.nature.com/articles/s41586-023-05840-z \nhttps://pubs.rsc.org/en/content/articlelanding/2006/cc/b600408c/unauth \n\n\n\n\nUpcoming and Previous CDAC Talks: \n\nhttps://cdac.phys.uic.edu/cdac-webinar-series/ \n  \nRecorded CDAC Talks:  \nhttps://www.youtube.com/channel/UCah_ErVY7qVCRief1WaF7hA?view_as=subscriber
URL:https://test.seescience.org/calendar/cdac-webinar/
LOCATION:IL
END:VEVENT
BEGIN:VEVENT
DTSTART;TZID=America/Chicago:20241121T110000
DTEND;TZID=America/Chicago:20241121T120000
DTSTAMP:20260422T042842
CREATED:20241118T134212Z
LAST-MODIFIED:20241118T134212Z
UID:8724-1732186800-1732190400@test.seescience.org
SUMMARY:ALS Virtual Seminar: Fast Scanning X-ray Microscopy
DESCRIPTION:Fast Scanning Transmission X-ray Microscopy: Enabling New Science Today and at the ALS-U\nDr. Alex Ditter (LBNL)\n\nThursday November 21:  9am Seattle; 11am Saskatoon; 12 noon New York; 2pm Rio de Janeiro; 5pm London; 6pm Berlin; 7pm Cape Town; 8pm Amman; 2am (11/22) Tokyo; 4am (11/22) Melbourne\nLink: https://washington.zoom.us/j/95725226444\n\nPassword: EXAFS\n\n\n\n\nMany recent and planned upgrades to lightsources around the world are focused on improving emittance and maximizing coherent flux.1 Scanning Transmission X-ray Microscopes (STXMs) and ptychography beamlines can use these improvements only if detector speed\, scanning speed\, data pipelines\, and data analysis tools are able to keep up. We will discuss here a brief overview of Advanced Light Source (ALS) Beamline 7.0.1.22\, 3 and focus on recent developments in improving scanning speed. This is accomplished through the implementation of a spiral scan pattern originally developed for atomic force microscopy\,4 and which improves scanning time by a factor of 3-5. This not only improves throughput but also enables new science as demonstrated by large population particle measurements and the observation of in situ dynamics on the time scale of seconds. We will also discuss how fast scanning will tie into other beamline improvements planned for the ALS upgrade.
URL:https://test.seescience.org/calendar/als-virtual-seminar-fast-scanning-x-ray-microscopy/
LOCATION:IL
END:VEVENT
END:VCALENDAR