BEGIN:VCALENDAR
VERSION:2.0
PRODID:-//SEES - ECPv6.15.16//NONSGML v1.0//EN
CALSCALE:GREGORIAN
METHOD:PUBLISH
X-ORIGINAL-URL:https://test.seescience.org
X-WR-CALDESC:Events for SEES
REFRESH-INTERVAL;VALUE=DURATION:PT1H
X-Robots-Tag:noindex
X-PUBLISHED-TTL:PT1H
BEGIN:VTIMEZONE
TZID:America/Chicago
BEGIN:DAYLIGHT
TZOFFSETFROM:-0600
TZOFFSETTO:-0500
TZNAME:CDT
DTSTART:20230312T080000
END:DAYLIGHT
BEGIN:STANDARD
TZOFFSETFROM:-0500
TZOFFSETTO:-0600
TZNAME:CST
DTSTART:20231105T070000
END:STANDARD
BEGIN:DAYLIGHT
TZOFFSETFROM:-0600
TZOFFSETTO:-0500
TZNAME:CDT
DTSTART:20240310T080000
END:DAYLIGHT
BEGIN:STANDARD
TZOFFSETFROM:-0500
TZOFFSETTO:-0600
TZNAME:CST
DTSTART:20241103T070000
END:STANDARD
BEGIN:DAYLIGHT
TZOFFSETFROM:-0600
TZOFFSETTO:-0500
TZNAME:CDT
DTSTART:20250309T080000
END:DAYLIGHT
BEGIN:STANDARD
TZOFFSETFROM:-0500
TZOFFSETTO:-0600
TZNAME:CST
DTSTART:20251102T070000
END:STANDARD
END:VTIMEZONE
BEGIN:VEVENT
DTSTART;VALUE=DATE:20241209
DTEND;VALUE=DATE:20241214
DTSTAMP:20260422T030338
CREATED:20241206T204835Z
LAST-MODIFIED:20241206T204835Z
UID:8779-1733702400-1734134399@test.seescience.org
SUMMARY:AGU 2024 Conference
DESCRIPTION:Each year\, AGU’s annual meeting\, the largest gathering of Earth and space scientists\, convenes 25\,000+ attendees from 100+ countries to share research and connect with friends and colleagues. Scientists\, educators\, policymakers\, journalists and communicators attend AGU24 to better understand our planet and environment\, opening pathways to discovery\, opening greater awareness to address climate change\, opening greater collaborations to lead to solutions and opening the fields and professions of science to a whole new age of justice equity\, diversity\, inclusion and belonging. \nThis December\, AGU24 returns to Washington\, D.C. with the theme “What’s Next for Science.” We can’t wait to see you there. \nLearn more at: https://www.agu.org/annual-meeting
URL:https://test.seescience.org/calendar/agu-2024-conference/
LOCATION:IL
END:VEVENT
BEGIN:VEVENT
DTSTART;TZID=America/Chicago:20241209T113000
DTEND;TZID=America/Chicago:20241209T123000
DTSTAMP:20260422T030338
CREATED:20241118T134755Z
LAST-MODIFIED:20241206T205017Z
UID:8727-1733743800-1733747400@test.seescience.org
SUMMARY:SEES Town Hall at AGU Annual Meeting
DESCRIPTION:SEES will host a town hall on the current status of and new developments at our beamline facilities on Monday\, December 9\, during AGU’s annual meeting in Washington\, DC. Lunch will be served as part of the event. \nWe are accepting reservation requests on a first-come-first-served basis. To register\, please complete our brief form here. Additional details will be shared with confirmed attendees in the weeks leading up to the conference. \nIf you will be at AGU this year\, we would love to see you at this SEES event.
URL:https://test.seescience.org/calendar/sees-town-hall-at-agu-annual-meeting/
LOCATION:IL
END:VEVENT
END:VCALENDAR