BEGIN:VCALENDAR
VERSION:2.0
PRODID:-//SEES - ECPv6.15.16//NONSGML v1.0//EN
CALSCALE:GREGORIAN
METHOD:PUBLISH
X-WR-CALNAME:SEES
X-ORIGINAL-URL:https://test.seescience.org
X-WR-CALDESC:Events for SEES
REFRESH-INTERVAL;VALUE=DURATION:PT1H
X-Robots-Tag:noindex
X-PUBLISHED-TTL:PT1H
BEGIN:VTIMEZONE
TZID:America/Chicago
BEGIN:DAYLIGHT
TZOFFSETFROM:-0600
TZOFFSETTO:-0500
TZNAME:CDT
DTSTART:20240310T080000
END:DAYLIGHT
BEGIN:STANDARD
TZOFFSETFROM:-0500
TZOFFSETTO:-0600
TZNAME:CST
DTSTART:20241103T070000
END:STANDARD
BEGIN:DAYLIGHT
TZOFFSETFROM:-0600
TZOFFSETTO:-0500
TZNAME:CDT
DTSTART:20250309T080000
END:DAYLIGHT
BEGIN:STANDARD
TZOFFSETFROM:-0500
TZOFFSETTO:-0600
TZNAME:CST
DTSTART:20251102T070000
END:STANDARD
BEGIN:DAYLIGHT
TZOFFSETFROM:-0600
TZOFFSETTO:-0500
TZNAME:CDT
DTSTART:20260308T080000
END:DAYLIGHT
BEGIN:STANDARD
TZOFFSETFROM:-0500
TZOFFSETTO:-0600
TZNAME:CST
DTSTART:20261101T070000
END:STANDARD
END:VTIMEZONE
BEGIN:VEVENT
DTSTART;VALUE=DATE:20250207
DTEND;VALUE=DATE:20250208
DTSTAMP:20260422T001827
CREATED:20250203T224109Z
LAST-MODIFIED:20250203T224127Z
UID:9368-1738886400-1738972799@test.seescience.org
SUMMARY:SCCM 2025 Abstract Submission Deadline
DESCRIPTION:We are excited to see the Static\, Dynamic\, and Shock high-pressure communities merge their sciences this year at the SCCM 2025: 24th International Conference on the Science of Compression in Condensed Matter (Washington DC\, June 22-27).\n\nWe highly encourage your participation in this unique event and look forward to receiving your abstract contributions in one of the sessions or masterclasses that we organize:\n\n1b – Advances in static and dynamic high-pressure techniques and diagnostics (AETB) (Vitali Prakapenka & Jesse Smith)\n6b – Planetary and Exoplanetary Materials under Static Compression Conditions (GEOB) (Stella Chariton & Will Evans)\nMasterclass – Introduction to Diamond Anvil Cells – theoretical and practical aspects  (DAC) (Stas Sinogeikin\, Stella Chariton & Vitali Prakapenka)\nMasterclass – Recent developments in advanced synchrotron and optical probes (XRD) (Stella Chariton\, Dongzhou Zhang & Vitali Prakapenka)\n\n\nMany more exciting sessions and classes can be found on the conference’s website: https://engage.aps.org/gccm/meetings/biennial-2025\n\nSCCM is offering a limited number of Participation Grants to help students and postdocs attend this year’s meeting. The application deadline is March 7. For details on how to apply\, please check here: https://engage.aps.org/gccm/meetings/biennial-2025/participation-grants\n\nThe deadline for abstract submissions is fast approaching on February 7\, 2025.
URL:https://test.seescience.org/calendar/sccm-2025-abstract-submission-deadline/
LOCATION:IL
ATTACH;FMTTYPE=image/png:https://test.seescience.org/wp-content/uploads/2025/02/SSCM_2025.png
END:VEVENT
BEGIN:VEVENT
DTSTART;VALUE=DATE:20250226
DTEND;VALUE=DATE:20250227
DTSTAMP:20260422T001827
CREATED:20250127T212057Z
LAST-MODIFIED:20250127T214359Z
UID:9318-1740528000-1740614399@test.seescience.org
SUMMARY:Goldschmidt 2025 Abstract Submission Deadline
DESCRIPTION:We are pleased to invite you to submit an abstract to our SEES organized session (09f) at Goldschmidt 2025. In this session\, we will explore the application of micro- and nanoscale imaging and spectroscopic techniques such as confocal Raman microscopy\, scanning probe microscopy\, and synchrotron-based methods to study complex biogeochemical processes\, microbial interactions\, and mineral weathering.\n \nThe submission deadline is 26 February 2025 (23:59 CET/UTC +1). Detailed information is provided below.\n \nTheme 09: Biogeochemical Cycles in Earth Systems\n\n09f Imaging and spectroscopic techniques for biogeochemistry\, environmental and planetary sciences: from conventional to synchrotron-based microscopy techniques\n \n\nMicro and nanoscale imaging and spectroscopic analysis are critical for studying complex biogeochemical processes in fields of aquatic\, terrestrial\, and planetary sciences. Spatiotemporally sensitive measurements of microbial community dynamics\, organic/microbe-mineral interfaces\, and nanoscale mineral weathering processes in heterogeneous systems enable the decoupling of distinct biogeochemical reactions\, allowing the investigation of relevant mechanisms.\nThis session aims to advance our knowledge of using innovative imaging and spectroscopic techniques including confocal Raman microscopy\, scanning probe microscopy\, light-sheet fluorescence microscopy\, and synchrotron-based techniques (e.g.\, Scanning Transmission X-ray Microscopy (STXM)\, X-ray Fluorescence Microprobe (XFM)\, ptychography\, X-ray Absorption Near Edge Structure (XANES)) to investigate biogeochemical reactions. We welcome contributions that: (1) utilize one or multiple imaging and spectroscopic techniques to study biogeochemical reactions; (2) employ novel experimental tools (e.g.\, microfluidics\, correlative microscopy\, in situ 3D imaging under cryo- or hydrated conditions\, and bioreporters) to investigate microbial interactions; and (3) apply conventional and customized data analysis tools to interpret imaging results from across various analytical techniques. \nThis session is supported by the “Synchrotron Earth and Environmental Science” (SEES) program funded by the National Science Foundation in the U.S.\, which aims to advance research and techniques that utilize synchrotron radiation facilities for Earth and Environmental studies. \nLearn more and submit an abstract here – https://conf.goldschmidt.info/goldschmidt/2025/goldschmidt/2025/meetingapp.cgi
URL:https://test.seescience.org/calendar/goldschmidt-2025-abstract-submission-deadline/
LOCATION:IL
ATTACH;FMTTYPE=image/png:https://test.seescience.org/wp-content/uploads/2025/01/Goldschmidt2025_LogoText.png
END:VEVENT
END:VCALENDAR