BEGIN:VCALENDAR
VERSION:2.0
PRODID:-//SEES - ECPv6.15.16//NONSGML v1.0//EN
CALSCALE:GREGORIAN
METHOD:PUBLISH
X-WR-CALNAME:SEES
X-ORIGINAL-URL:https://test.seescience.org
X-WR-CALDESC:Events for SEES
REFRESH-INTERVAL;VALUE=DURATION:PT1H
X-Robots-Tag:noindex
X-PUBLISHED-TTL:PT1H
BEGIN:VTIMEZONE
TZID:America/Chicago
BEGIN:DAYLIGHT
TZOFFSETFROM:-0600
TZOFFSETTO:-0500
TZNAME:CDT
DTSTART:20240310T080000
END:DAYLIGHT
BEGIN:STANDARD
TZOFFSETFROM:-0500
TZOFFSETTO:-0600
TZNAME:CST
DTSTART:20241103T070000
END:STANDARD
BEGIN:DAYLIGHT
TZOFFSETFROM:-0600
TZOFFSETTO:-0500
TZNAME:CDT
DTSTART:20250309T080000
END:DAYLIGHT
BEGIN:STANDARD
TZOFFSETFROM:-0500
TZOFFSETTO:-0600
TZNAME:CST
DTSTART:20251102T070000
END:STANDARD
BEGIN:DAYLIGHT
TZOFFSETFROM:-0600
TZOFFSETTO:-0500
TZNAME:CDT
DTSTART:20260308T080000
END:DAYLIGHT
BEGIN:STANDARD
TZOFFSETFROM:-0500
TZOFFSETTO:-0600
TZNAME:CST
DTSTART:20261101T070000
END:STANDARD
END:VTIMEZONE
BEGIN:VEVENT
DTSTART;VALUE=DATE:20250323
DTEND;VALUE=DATE:20250328
DTSTAMP:20260421T225620
CREATED:20250115T211700Z
LAST-MODIFIED:20250127T213855Z
UID:9028-1742688000-1743119999@test.seescience.org
SUMMARY:ACS Spring 2025 Conference
DESCRIPTION:ACS Meetings & Expositions are where chemistry professionals meet to share ideas and advance scientific and technical knowledge. By attracting thousands of chemical professionals\, the meetings provide excellent opportunities for sharing your passion for chemistry\, connecting with one of the world’s largest scientific societies\, and advancing your career in this ever-changing global economy. \nACS Spring 2025\nMarch 23-27\nSan Diego\, CA & Virtual \nLearn more at: https://www.acs.org/meetings/acs-meetings/spring.html
URL:https://test.seescience.org/calendar/acs-spring-2025-conference/
LOCATION:IL
END:VEVENT
END:VCALENDAR