BEGIN:VCALENDAR
VERSION:2.0
PRODID:-//SEES - ECPv6.15.16//NONSGML v1.0//EN
CALSCALE:GREGORIAN
METHOD:PUBLISH
X-ORIGINAL-URL:https://test.seescience.org
X-WR-CALDESC:Events for SEES
REFRESH-INTERVAL;VALUE=DURATION:PT1H
X-Robots-Tag:noindex
X-PUBLISHED-TTL:PT1H
BEGIN:VTIMEZONE
TZID:America/Chicago
BEGIN:DAYLIGHT
TZOFFSETFROM:-0600
TZOFFSETTO:-0500
TZNAME:CDT
DTSTART:20240310T080000
END:DAYLIGHT
BEGIN:STANDARD
TZOFFSETFROM:-0500
TZOFFSETTO:-0600
TZNAME:CST
DTSTART:20241103T070000
END:STANDARD
BEGIN:DAYLIGHT
TZOFFSETFROM:-0600
TZOFFSETTO:-0500
TZNAME:CDT
DTSTART:20250309T080000
END:DAYLIGHT
BEGIN:STANDARD
TZOFFSETFROM:-0500
TZOFFSETTO:-0600
TZNAME:CST
DTSTART:20251102T070000
END:STANDARD
BEGIN:DAYLIGHT
TZOFFSETFROM:-0600
TZOFFSETTO:-0500
TZNAME:CDT
DTSTART:20260308T080000
END:DAYLIGHT
BEGIN:STANDARD
TZOFFSETFROM:-0500
TZOFFSETTO:-0600
TZNAME:CST
DTSTART:20261101T070000
END:STANDARD
END:VTIMEZONE
BEGIN:VEVENT
DTSTART;VALUE=DATE:20250731
DTEND;VALUE=DATE:20250801
DTSTAMP:20260421T165554
CREATED:20250410T155008Z
LAST-MODIFIED:20250410T155221Z
UID:9925-1753920000-1754006399@test.seescience.org
SUMMARY:Abstract Submission Deadline: SES 2025
DESCRIPTION:The Synchrotron Environmental Science (SES) Symposium will be held at Stony Brook University from September 29 – October 1\, 2025.\n \nThis symposium will unite leading experts in synchrotron research and environmental science to foster dialogue\, collaboration\, and innovation. The 8th SES Symposium focuses on the complex interplay amongst and between hydrologic\, geomorphic\, geochemical\, and biological processes and how this dynamic near-surface environment responds to change.\n \n\nTopics will include problems of high societal impact within research focused on the “Critical Zone”\, hydrologic cycle\, soil science and ecology\, geochemistry\, geomicrobiology\, and critical elements.\n\n \nThis year’s program features a diverse array of invited and contributed talks\, updates on cutting-edge facilities\, a sponsor banquet\, an exclusive tour of NSLS-II beamlines\, a vibrant poster session\, and exhibits highlighting new technologies and instrumentation.\n \nThe deadline for abstract submission for oral/poster presentation is July 31\, 2025. Click here to submit an abstract.
URL:https://test.seescience.org/calendar/abstract-submission-deadline-ses-2025/
LOCATION:IL
END:VEVENT
END:VCALENDAR