BEGIN:VCALENDAR
VERSION:2.0
PRODID:-//SEES - ECPv6.15.16//NONSGML v1.0//EN
CALSCALE:GREGORIAN
METHOD:PUBLISH
X-WR-CALNAME:SEES
X-ORIGINAL-URL:https://test.seescience.org
X-WR-CALDESC:Events for SEES
REFRESH-INTERVAL;VALUE=DURATION:PT1H
X-Robots-Tag:noindex
X-PUBLISHED-TTL:PT1H
BEGIN:VTIMEZONE
TZID:America/Chicago
BEGIN:DAYLIGHT
TZOFFSETFROM:-0600
TZOFFSETTO:-0500
TZNAME:CDT
DTSTART:20240310T080000
END:DAYLIGHT
BEGIN:STANDARD
TZOFFSETFROM:-0500
TZOFFSETTO:-0600
TZNAME:CST
DTSTART:20241103T070000
END:STANDARD
BEGIN:DAYLIGHT
TZOFFSETFROM:-0600
TZOFFSETTO:-0500
TZNAME:CDT
DTSTART:20250309T080000
END:DAYLIGHT
BEGIN:STANDARD
TZOFFSETFROM:-0500
TZOFFSETTO:-0600
TZNAME:CST
DTSTART:20251102T070000
END:STANDARD
BEGIN:DAYLIGHT
TZOFFSETFROM:-0600
TZOFFSETTO:-0500
TZNAME:CDT
DTSTART:20260308T080000
END:DAYLIGHT
BEGIN:STANDARD
TZOFFSETFROM:-0500
TZOFFSETTO:-0600
TZNAME:CST
DTSTART:20261101T070000
END:STANDARD
END:VTIMEZONE
BEGIN:VEVENT
DTSTART;VALUE=DATE:20250912
DTEND;VALUE=DATE:20250913
DTSTAMP:20260421T140730
CREATED:20250410T155513Z
LAST-MODIFIED:20250410T155513Z
UID:9926-1757635200-1757721599@test.seescience.org
SUMMARY:Registration Deadline: SES 2025
DESCRIPTION:The Synchrotron Environmental Science (SES) Symposium will be held at Stony Brook University from September 29 – October 1\, 2025.\n \nThis symposium will unite leading experts in synchrotron research and environmental science to foster dialogue\, collaboration\, and innovation. The 8th SES Symposium focuses on the complex interplay amongst and between hydrologic\, geomorphic\, geochemical\, and biological processes and how this dynamic near-surface environment responds to change.\n \n\nTopics will include problems of high societal impact within research focused on the “Critical Zone”\, hydrologic cycle\, soil science and ecology\, geochemistry\, geomicrobiology\, and critical elements.\n\n \nThis year’s program features a diverse array of invited and contributed talks\, updates on cutting-edge facilities\, a sponsor banquet\, an exclusive tour of NSLS-II beamlines\, a vibrant poster session\, and exhibits highlighting new technologies and instrumentation.\n \nThe deadline to register for the conference is September 12\, 2025. Click here to register.
URL:https://test.seescience.org/calendar/registration-deadline-ses-2025/
LOCATION:IL
END:VEVENT
BEGIN:VEVENT
DTSTART;VALUE=DATE:20250915
DTEND;VALUE=DATE:20250920
DTSTAMP:20260421T140730
CREATED:20250916T171116Z
LAST-MODIFIED:20250916T171121Z
UID:23559-1757894400-1758326399@test.seescience.org
SUMMARY:2025 National Postdoc Appreciation Week
DESCRIPTION:Since 2009\, the NPA has sponsored National Postdoc Appreciation Day/Week to recognize the significant contributions that postdoctoral scholars make to U.S. research and discovery. Organizations from across the world participate by holding special events. In 2010\, this week was officially recognized by the U.S. House of Representatives. Events will be held throughout the week and across the country to create awareness of postdocs. This year’s theme is communicating your science and research. \n\nWe are excited to announce the sixth virtual\, multi-institutional NPAW celebration! This initiative was started to connect postdocs while the world was largely virtual. We are continuing the tradition by working with organizations to highlight events that are open to postdocs from across the world. 
URL:https://test.seescience.org/calendar/2025-national-postdoc-appreciation-week/
LOCATION:IL
END:VEVENT
BEGIN:VEVENT
DTSTART;VALUE=DATE:20250929
DTEND;VALUE=DATE:20251002
DTSTAMP:20260421T140730
CREATED:20250410T155755Z
LAST-MODIFIED:20250410T162702Z
UID:9927-1759104000-1759363199@test.seescience.org
SUMMARY:Synchrotron Environmental Science (SES-2025) Symposium
DESCRIPTION:The Synchrotron Environmental Science (SES) Symposium will be held at Stony Brook University from September 29 – October 1\, 2025.\n \nThis symposium will unite leading experts in synchrotron research and environmental science to foster dialogue\, collaboration\, and innovation. The 8th SES Symposium focuses on the complex interplay amongst and between hydrologic\, geomorphic\, geochemical\, and biological processes and how this dynamic near-surface environment responds to change.\n \n\nTopics will include problems of high societal impact within research focused on the “Critical Zone”\, hydrologic cycle\, soil science and ecology\, geochemistry\, geomicrobiology\, and critical elements.\n\n \nThis year’s program features a diverse array of invited and contributed talks\, updates on cutting-edge facilities\, a sponsor banquet\, an exclusive tour of NSLS-II beamlines\, a vibrant poster session\, and exhibits highlighting new technologies and instrumentation.\n \nLearn more at https://www.bnl.gov/ses-symposium/index.php.
URL:https://test.seescience.org/calendar/synchrotron-environmental-science-ses-2025-symposium/
LOCATION:Charles B. Wang Center\, 100 Nicolls Road\, Stony Brook\, NY\, 11794\, United States
END:VEVENT
END:VCALENDAR