BEGIN:VCALENDAR
VERSION:2.0
PRODID:-//SEES - ECPv6.15.16//NONSGML v1.0//EN
CALSCALE:GREGORIAN
METHOD:PUBLISH
X-WR-CALNAME:SEES
X-ORIGINAL-URL:https://test.seescience.org
X-WR-CALDESC:Events for SEES
REFRESH-INTERVAL;VALUE=DURATION:PT1H
X-Robots-Tag:noindex
X-PUBLISHED-TTL:PT1H
BEGIN:VTIMEZONE
TZID:America/Chicago
BEGIN:DAYLIGHT
TZOFFSETFROM:-0600
TZOFFSETTO:-0500
TZNAME:CDT
DTSTART:20240310T080000
END:DAYLIGHT
BEGIN:STANDARD
TZOFFSETFROM:-0500
TZOFFSETTO:-0600
TZNAME:CST
DTSTART:20241103T070000
END:STANDARD
BEGIN:DAYLIGHT
TZOFFSETFROM:-0600
TZOFFSETTO:-0500
TZNAME:CDT
DTSTART:20250309T080000
END:DAYLIGHT
BEGIN:STANDARD
TZOFFSETFROM:-0500
TZOFFSETTO:-0600
TZNAME:CST
DTSTART:20251102T070000
END:STANDARD
BEGIN:DAYLIGHT
TZOFFSETFROM:-0600
TZOFFSETTO:-0500
TZNAME:CDT
DTSTART:20260308T080000
END:DAYLIGHT
BEGIN:STANDARD
TZOFFSETFROM:-0500
TZOFFSETTO:-0600
TZNAME:CST
DTSTART:20261101T070000
END:STANDARD
END:VTIMEZONE
BEGIN:VEVENT
DTSTART;VALUE=DATE:20251114
DTEND;VALUE=DATE:20251115
DTSTAMP:20260421T112425
CREATED:20251105T195536Z
LAST-MODIFIED:20251105T195536Z
UID:29105-1763078400-1763164799@test.seescience.org
SUMMARY:Application Deadline: eBERlight 101
DESCRIPTION:eBERlight 101: Application of X-ray methods in biological and environmental research \nThe eBERlight Team is pleased to announce the second workshop\, “eBERlight 101: Application of X-ray methods in biological and environmental research”\, to be held February 11–13\, 2026\, at Argonne National Laboratory. The goal is to help participants incorporate synchrotron X-ray methods into their research toolkit to study the physical and chemical properties of bioenvironmental systems\, including plants\, soils\, and microbes. \nThis three-day\, hands-on workshop will educate the user community about the Advanced Photon Source (APS) capabilities and their applications in bioenvironmental science\, with a focus on three key synchrotron-based techniques: \n\nX-ray Computed Tomography (XCT)\nX-ray Fluorescence Microscopy (XFM)\nX-ray Absorption Spectroscopy (XAS)\n\nParticipants will gain experience in data collection and analysis\, explore sample preparation\, and engage in discussions of individual projects. The program combines fundamental technique talks\, scientific case studies\, and hands-on sessions using facility-provided samples. \nImportant Dates \n\nApplication opens: October 15\, 2025\nApplication deadline: November 14\, 2025\nNotification of acceptance: December 5\, 2025\nANL visitor registration deadline: December 15\, 2025\nWorkshop dates: February 11–13\, 2026\n\n  \nApply Here \n  \nFor questions\, please contact eberlight@anl.gov
URL:https://test.seescience.org/calendar/application-deadline-eberlight-101/
LOCATION:Argonne National Laboratory
END:VEVENT
END:VCALENDAR