BEGIN:VCALENDAR
VERSION:2.0
PRODID:-//SEES - ECPv6.15.16//NONSGML v1.0//EN
CALSCALE:GREGORIAN
METHOD:PUBLISH
X-WR-CALNAME:SEES
X-ORIGINAL-URL:https://test.seescience.org
X-WR-CALDESC:Events for SEES
REFRESH-INTERVAL;VALUE=DURATION:PT1H
X-Robots-Tag:noindex
X-PUBLISHED-TTL:PT1H
BEGIN:VTIMEZONE
TZID:America/Chicago
BEGIN:DAYLIGHT
TZOFFSETFROM:-0600
TZOFFSETTO:-0500
TZNAME:CDT
DTSTART:20240310T080000
END:DAYLIGHT
BEGIN:STANDARD
TZOFFSETFROM:-0500
TZOFFSETTO:-0600
TZNAME:CST
DTSTART:20241103T070000
END:STANDARD
BEGIN:DAYLIGHT
TZOFFSETFROM:-0600
TZOFFSETTO:-0500
TZNAME:CDT
DTSTART:20250309T080000
END:DAYLIGHT
BEGIN:STANDARD
TZOFFSETFROM:-0500
TZOFFSETTO:-0600
TZNAME:CST
DTSTART:20251102T070000
END:STANDARD
BEGIN:DAYLIGHT
TZOFFSETFROM:-0600
TZOFFSETTO:-0500
TZNAME:CDT
DTSTART:20260308T080000
END:DAYLIGHT
BEGIN:STANDARD
TZOFFSETFROM:-0500
TZOFFSETTO:-0600
TZNAME:CST
DTSTART:20261101T070000
END:STANDARD
END:VTIMEZONE
BEGIN:VEVENT
DTSTART;TZID=America/Chicago:20251205T130000
DTEND;TZID=America/Chicago:20251205T140000
DTSTAMP:20260421T100106
CREATED:20251202T173547Z
LAST-MODIFIED:20251202T173547Z
UID:29176-1764939600-1764943200@test.seescience.org
SUMMARY:FORCE Seminar - Sibo Chen
DESCRIPTION:Tracking Hydrogen in Planetary Interiors: from the Nanometer Scale to the Planetary Scale \nSibo Chen\nSchool of Earth & Space Exploration\nArizona State University \n\nLearn more and get the Zoom link here.
URL:https://test.seescience.org/calendar/force-seminar-sibo-chen/
LOCATION:IL
END:VEVENT
BEGIN:VEVENT
DTSTART;TZID=America/Chicago:20251210T123000
DTEND;TZID=America/Chicago:20251210T133000
DTSTAMP:20260421T100106
CREATED:20251210T172224Z
LAST-MODIFIED:20251210T172610Z
UID:29205-1765369800-1765373400@test.seescience.org
SUMMARY:CBMS Lecture Series - Buz Barstown
DESCRIPTION:You are cordially invited to join  the Center for Biomolecular Structure Lecture Series \n\nBuz Barstow\nCornell University\nwww.vanderzanden-lab.com\n\nWEDNESDAY\, December 10\, 13:30 (EST)\n \n“The Microbe-Mineral Atlas and Biomining Critical Elements”\n\nRegister in advance for this meeting: https://bnl.zoomgov.com/meeting/register/2erL_tvDRRKlplf6mk_y1Q\n \nAbstract: Creation of a new sustainable energy infrastructure\, carbon sequestration\, advanced electronic and computer technologies\, and advanced defense technologies all mean that the demand for metals is increasingly rapidly. But traditional mining technology can be highly environmentally damaging. This means that the supply chains for many critical metals and semiconductors stretch through unstable parts of the world\, leaving them vulnerable to disruption and exploitation.\n     Biomining with Acidithiobacillus species already supplies about 20% of the world’s copper and 5% of its gold through an iron-specific redox process. However\, there are no industrially-used microbes for any of the 30 or 40 other critical elements. This means that we will need to build microbes to enable bioprocesses to mine these elements with synthetic biology. However\, we do not understand the basic science of how microbes interact with metals and minerals sufficiently to guide this engineering.\n     My lab has characterized the genome of the mineral-dissolving microbe Gluconobacter oxydans and discovered the genetic systems that enable it to mine rare earth elements. We have used this new knowledge to create a roadmap for engineering G. oxydans that has already improved biomining of REE by up to 1\,200%. Furthermore\, we engineered the hyper-engineerable microbe Vibrio natriegens to separate adjacent heavy lanthanides\, leap-frogging solvent extractions.\n     However\, this still leaves over 20 other critical elements that we need build microbes for. To build the basic knowledge for this\, my lab has started the Microbe-Mineral Atlas to catalog metal and mineral-interacting microbes from around the US\, and hopefully the world.\n     Finally\, I will discuss some of the barriers that our current model of technology transfer poses to development of new technologies\, what we have done to solve this problem\, and some recent successes in starting REEgen for biomining rare earth elements\, and Forage Evolution to develop hyper-engineerable microbes.
URL:https://test.seescience.org/calendar/cbms-lecture-series-buz-barstown/
LOCATION:IL
END:VEVENT
BEGIN:VEVENT
DTSTART;VALUE=DATE:20251215
DTEND;VALUE=DATE:20251220
DTSTAMP:20260421T100106
CREATED:20251105T200608Z
LAST-MODIFIED:20251105T200618Z
UID:29121-1765756800-1766188799@test.seescience.org
SUMMARY:AGU25 Conference
DESCRIPTION:AGU25: Where Science Connects Us.\nConnections. They link us together. Make us stronger. Help us grow. Give us hope. Move us forward. The Earth and space science community is all about connection. A vibrant hive of research\, discovery\, action\, and solution. Connections twist and move. They pivot unpredictably. They can challenge us\, surprise us\, and sometimes delight us. From the lab to the field to the ballot box\, science depends on connection. At AGU25 we celebrate all the ways we connect. The purpose of what we connect. The power of how we connect. The promise of where we connect. \nLearn more at https://www.agu.org/annual-meeting
URL:https://test.seescience.org/calendar/agu25/
LOCATION:New Orleans\, Louisiana
END:VEVENT
END:VCALENDAR