BEGIN:VCALENDAR
VERSION:2.0
PRODID:-//SEES - ECPv6.15.16//NONSGML v1.0//EN
CALSCALE:GREGORIAN
METHOD:PUBLISH
X-WR-CALNAME:SEES
X-ORIGINAL-URL:https://test.seescience.org
X-WR-CALDESC:Events for SEES
REFRESH-INTERVAL;VALUE=DURATION:PT1H
X-Robots-Tag:noindex
X-PUBLISHED-TTL:PT1H
BEGIN:VTIMEZONE
TZID:America/Chicago
BEGIN:DAYLIGHT
TZOFFSETFROM:-0600
TZOFFSETTO:-0500
TZNAME:CDT
DTSTART:20250309T080000
END:DAYLIGHT
BEGIN:STANDARD
TZOFFSETFROM:-0500
TZOFFSETTO:-0600
TZNAME:CST
DTSTART:20251102T070000
END:STANDARD
BEGIN:DAYLIGHT
TZOFFSETFROM:-0600
TZOFFSETTO:-0500
TZNAME:CDT
DTSTART:20260308T080000
END:DAYLIGHT
BEGIN:STANDARD
TZOFFSETFROM:-0500
TZOFFSETTO:-0600
TZNAME:CST
DTSTART:20261101T070000
END:STANDARD
BEGIN:DAYLIGHT
TZOFFSETFROM:-0600
TZOFFSETTO:-0500
TZNAME:CDT
DTSTART:20270314T080000
END:DAYLIGHT
BEGIN:STANDARD
TZOFFSETFROM:-0500
TZOFFSETTO:-0600
TZNAME:CST
DTSTART:20271107T070000
END:STANDARD
END:VTIMEZONE
BEGIN:VEVENT
DTSTART;VALUE=DATE:20260302
DTEND;VALUE=DATE:20260305
DTSTAMP:20260421T055823
CREATED:20251217T214302Z
LAST-MODIFIED:20260205T171207Z
UID:29243-1772409600-1772668799@test.seescience.org
SUMMARY:ISRD-SEES Workshop
DESCRIPTION:ISRD-RCN and SEES will host a hands-on workshop to introduce synchrotron techniques to the rock deformation community on March 2–4\, 2026\, at the Advanced Photon Source in Lemont\, Illinois. The workshop will focus on synchrotron-based high-pressure\, high-temperature rock deformation experiments conducted at beamline 6-BM and GSECARS.
URL:https://test.seescience.org/calendar/isrd-sees-workshop/
LOCATION:Argonne National Laboratory
ORGANIZER;CN="ISRD-RCN":MAILTO:wzhu@umd.edu
END:VEVENT
BEGIN:VEVENT
DTSTART;TZID=America/Chicago:20260305T180000
DTEND;TZID=America/Chicago:20260305T191500
DTSTAMP:20260421T055823
CREATED:20260206T180442Z
LAST-MODIFIED:20260206T181021Z
UID:29445-1772733600-1772738100@test.seescience.org
SUMMARY:Argonne OutLoud Public Lecture Series
DESCRIPTION:Don’t miss your chance to attend the first OutLoud event of 2026! \nArgonne National Laboratory is where some of the world’s most pressing problems are solved through science\, technology and innovation. Tackling big challenges requires big tools. Argonne’s world-class user facilities are the foundation of countless groundbreaking discoveries and advancements\, bringing together Argonne scientists\, academic researchers\, government and industry leaders. \nArgonne is home to six cutting-edge research user facilities\, funded by the U.S. Department of Energy (DOE). That includes one of the brightest X-ray light sources in the world as well as some of the fastest AI supercomputers. These top-tier tools dramatically accelerate research and provide insights that would otherwise be impossible. \nMore than 8\,000 guest researchers from around the globe visit each year to use these tools\, making Argonne one of the largest user research communities among the country’s 17 national labs. \nThe discoveries made with these specialized research tools touch our everyday lives in remarkable ways\, from rapid advancements in cellphones\, computers and cybersecurity to breakthroughs in modern medicine and pharmaceuticals. \nIn the next installment of our OutLoud Lecture Series\, discover how these incredible tools are driving innovation\, making groundbreaking contributions to science and adding value to your life. \nThe OutLoud Public Lecture Series is dedicating 2026 to celebrating 80 Years of Impact\, as Argonne marks its 80th anniversary. Join us throughout the year as we commemorate this milestone with engaging special segments\, exciting giveaways and a few surprises.   \n\nFEATURED SPEAKERS\nSean L. Jones (Moderator)\nDeputy Laboratory Director for Science and Technology \nConnie Pfeiffer\nUser Program Manager\,\nCenter for Nanoscale Materials (CNM) \nKatherine Riley\nDirector of Science\,\nArgonne Leadership Computing Facility (ALCF) \nStefan Vogt\nAssociate Director for X-ray Science\,\nAdvanced Photon Source (APS) \n\n\n\n\n\n\n\n\n\n\nEvent Details\n\n\n\n\n\n\n\n\n\n\n\n\nThursday\, March 5\, 2026\n6:00 – 7:15 p.m. CT\n \nHybrid event. Attend in person or online. \nArgonne National Laboratory\nTCS Conference Center\nBuilding 240\n9700 S. Cass Ave.\nLemont\, IL \nREGISTRATION DEADLINE\nIn-Person:\nWednesday\, February 25\, 2026 \nVirtual:\nWednesday\, March 4\, 2026 \nREGISTER HERE\n\n\n\n\n 
URL:https://test.seescience.org/calendar/argonne-outloud-lecture-series/
LOCATION:Argonne National Laboratory
END:VEVENT
END:VCALENDAR