BEGIN:VCALENDAR
VERSION:2.0
PRODID:-//SEES - ECPv6.15.16//NONSGML v1.0//EN
CALSCALE:GREGORIAN
METHOD:PUBLISH
X-ORIGINAL-URL:https://test.seescience.org
X-WR-CALDESC:Events for SEES
REFRESH-INTERVAL;VALUE=DURATION:PT1H
X-Robots-Tag:noindex
X-PUBLISHED-TTL:PT1H
BEGIN:VTIMEZONE
TZID:America/Chicago
BEGIN:DAYLIGHT
TZOFFSETFROM:-0600
TZOFFSETTO:-0500
TZNAME:CDT
DTSTART:20250309T080000
END:DAYLIGHT
BEGIN:STANDARD
TZOFFSETFROM:-0500
TZOFFSETTO:-0600
TZNAME:CST
DTSTART:20251102T070000
END:STANDARD
BEGIN:DAYLIGHT
TZOFFSETFROM:-0600
TZOFFSETTO:-0500
TZNAME:CDT
DTSTART:20260308T080000
END:DAYLIGHT
BEGIN:STANDARD
TZOFFSETFROM:-0500
TZOFFSETTO:-0600
TZNAME:CST
DTSTART:20261101T070000
END:STANDARD
BEGIN:DAYLIGHT
TZOFFSETFROM:-0600
TZOFFSETTO:-0500
TZNAME:CDT
DTSTART:20270314T080000
END:DAYLIGHT
BEGIN:STANDARD
TZOFFSETFROM:-0500
TZOFFSETTO:-0600
TZNAME:CST
DTSTART:20271107T070000
END:STANDARD
END:VTIMEZONE
BEGIN:VEVENT
DTSTART;VALUE=DATE:20260504
DTEND;VALUE=DATE:20260509
DTSTAMP:20260421T055740
CREATED:20260122T193029Z
LAST-MODIFIED:20260122T193029Z
UID:29343-1777852800-1778284799@test.seescience.org
SUMMARY:APS/CNM Users Meeting
DESCRIPTION:Dear Colleagues\,  \n\n\nWe’re pleased to invite you to register for the 2026 joint Advanced Photon Source (APS)/Center for Nanoscale Materials (CNM) Users Meeting\, taking place May 4–8\, 2026\, at Argonne National Laboratory! This event is a great opportunity for scientists at all career stages\, including students and industry partners\, to come together and share the latest research advancements made possible by these world-class U.S. Department of Energy (DOE) Office of Science user facilities.  \n\n\nThe meeting will feature a wide range of activities designed to foster collaboration and innovation including:  \n\nOpening plenary session featuring a keynote address by Ted Sargent (Northwestern University)\nDOE Perspective\nPlenary sessions that highlight APS- and CNM-driven research advancements\nPoster session open to all attendees \nTours of APS and CNM facilities\nWorkshops on emerging trends in science  \nVendor exhibits\nBanquet at the Brookfield Zoo\n\nEarly-bird registration is open through February 13\, 2026. Save $50! Registration closes April 20\, 2026\, at 5 p.m. CDT. It is recommended that non-U.S. citizens register by March 2\, 2026\, in order to meet processing requirements. \nIf you have questions\, please contact Kim Dikeos (kdikeos@anl.gov).   \n\nPlease register early to secure your spot. We look forward to hosting you for an exciting event!   \n\n\nBest regards\,  \n\n\nAPS/CNM Users Meeting Organizing Committee
URL:https://test.seescience.org/calendar/aps-cnm-users-meeting/
LOCATION:Argonne National Laboratory
END:VEVENT
END:VCALENDAR