BEGIN:VCALENDAR
VERSION:2.0
PRODID:-//SEES - ECPv6.15.16//NONSGML v1.0//EN
CALSCALE:GREGORIAN
METHOD:PUBLISH
X-ORIGINAL-URL:https://test.seescience.org
X-WR-CALDESC:Events for SEES
REFRESH-INTERVAL;VALUE=DURATION:PT1H
X-Robots-Tag:noindex
X-PUBLISHED-TTL:PT1H
BEGIN:VTIMEZONE
TZID:America/Chicago
BEGIN:DAYLIGHT
TZOFFSETFROM:-0600
TZOFFSETTO:-0500
TZNAME:CDT
DTSTART:20250309T080000
END:DAYLIGHT
BEGIN:STANDARD
TZOFFSETFROM:-0500
TZOFFSETTO:-0600
TZNAME:CST
DTSTART:20251102T070000
END:STANDARD
BEGIN:DAYLIGHT
TZOFFSETFROM:-0600
TZOFFSETTO:-0500
TZNAME:CDT
DTSTART:20260308T080000
END:DAYLIGHT
BEGIN:STANDARD
TZOFFSETFROM:-0500
TZOFFSETTO:-0600
TZNAME:CST
DTSTART:20261101T070000
END:STANDARD
BEGIN:DAYLIGHT
TZOFFSETFROM:-0600
TZOFFSETTO:-0500
TZNAME:CDT
DTSTART:20270314T080000
END:DAYLIGHT
BEGIN:STANDARD
TZOFFSETFROM:-0500
TZOFFSETTO:-0600
TZNAME:CST
DTSTART:20271107T070000
END:STANDARD
END:VTIMEZONE
BEGIN:VEVENT
DTSTART;VALUE=DATE:20260810
DTEND;VALUE=DATE:20260813
DTSTAMP:20260421T100239
CREATED:20260212T204411Z
LAST-MODIFIED:20260212T204411Z
UID:29489-1786320000-1786579199@test.seescience.org
SUMMARY:SAVE THE DATE! SEES-FORCE Joint Meeting
DESCRIPTION:SEES and FORCE invite you to attend our annual meeting to be held jointly on August 10-12\, 2026\, at the University of Chicago. Keynote speakers will discuss topics in high-pressure mineral physics\, and there will be a poster session with a broad scientific focus. All SEES and FORCE researchers are welcome and encouraged to attend. 
URL:https://test.seescience.org/calendar/save-the-date-sees-force-joint-meeting/
LOCATION:David Rubenstein Forum\, 1201 East 60th Street\, Chicago\, IL\, 60637\, United States
END:VEVENT
END:VCALENDAR